Workbook
Name coffee_extract: Tablas!$N$1:$N$4
Name Ground_rasted_coffee: Tablas!$L$1
Name Roasted_cofee_beans_or_ground: Tablas!$J$1:$J$16
Name Roasted_coffee_beans: Tablas!$K$1
Name Soluble_coffee: Tablas!$M$1

Sheet  SOLICITUD DE CERTIFICACION(ES)
A1: Código: OPRE-F-031, Versión: 36
A2: SOLICITUD DE CERTIFICACIÓN
A6: Fecha primera edición: 2008/02/04 | F6: Fecha actualización: 2025/02/07
A7: La Fundación Cafecert agradece su interes en iniciar el proceso de certificación; por favor diligencie completamente el siguiente formulario y adjunte la información solicitada en el numeral 7.
A9: .Recuerde que estamos dispuestos a resolver sus inquietudes en el PBX: (57) (601) 3136600 Ext: 1345, 1479, 1421. Teléfono: (57) (601) 6013257421
A10: .Al diligenciar este formulario autoriza a CAFECERT para que use, almacene y disponga de la información personal suministrada de acuerdo con la Política de Tratamiento de Datos Personales, la cual se encuentra en el sitio web www.fundacioncafecert.org.
A11: Fecha de diligenciamiento: | D11: Año: | G11: Mes: | I11: Día:
A12: 1. INFORMACIÓN DE LA COMPAÑÍA
A13: Nombre de la empresa:
A14: No de Identificación Tributaria (NIT): NIF, CIF, Extrait KBIS según aplique
A15: Dirección de la empresa:
A16: Correo electrónico:
A17: Ciudad: | F17: País:
A18: Teléfono: | F18: Sitio web:
A19: 2. INFORMACIÓN CONTACTO PRINCIPAL
A20: Nombre(s) Apellido(s):
A21: Cargo: | F21: Correo electrónico:
A22: Teléfono: | F22: Celular:
A23: 3. INFORMACIÓN REPRESENTANTE LEGAL
A24: Nombre(s) Apellido(s):
A25: Correo electrónico:
A26: 4. INFORMACIÓN GENERAL
A27: Seleccione el tipo de actividad (es) que realiza su empresa:
A30: 5. PLANTAS DONDE SE PROCESA EL CAFÉ A CERTIFICAR
A31: Planta | B31: Nombre de la planta | D31: Dirección | F31: Ciudad/ País | I31: Tipo de actividad (Tostadora, trilladora etc)
A32: 1
A33: 2
A34: 3
A35: 4
A36: 5
A37: 6. INFORMACIÓN DE LOS PRODUCTOS A CERTIFICAR Y TIPO DE CERTIFICACIÓN
A38: Tipo de certificación: Seleccione el tipo de certificación | G38: Especifique el código del Certificado Vigente (Solo si es Ampliación)
A39: Tipo de Producto | B39: Marca | C39: Linea comercial (*) (Variedades, Nivel de tostión entre otros ) | E39: Contenido de la presentación (10g,100 g, 250 g etc.) | F39: Tipo de presentación (Cápsulas, Pods, bolsas, etc. ) | G39: Pais (es) donde se comercializa | H39: Planta (Indique el número de la planta relacionada en el item 5) | I39: Dueño de marca | J39: Programa (DO/IGP/DOR)
N46: =+'Tabla 1'!G8 -> #N/A
A47: (*) Describa en linea comercial: La información relacionada y declarada en el empaque del producto a certificar. Ejemplo: Variedades, Nivel de tostión (alta, media ó baja), referencias comerciales que hagan alusión a términos tales como: Premium, Gourmet, Tradicional, Descafeinado, Orgánico, entre otros.
A48: 7. DOCUMENTOS PARA ADJUNTAR CON ESTA SOLICITUD
A49: . Certificado de Existencia y Representación Legal (Cámara de Comercio) y/o otros como: Certificado de la Superintendencia financiera de Colombia y/o Registro mercantil, según aplique.
A50: . Registro Único Tributario Vigente (RUT)
A51: .Firma de la carta de Compromiso del presente formato de solicitud de certificación.
A52: . Fotografías y/o el arte del empaque final, por el frente, reverso y laterales en donde se evidencie las especificaciones e información general del café a certificar (No aplica para café Verde).
A53: 8. NOTAS ACLARATORIAS
A54: 1. Si la documentación solicitada esta incompleta o el formulario presenta alguna inconsistencia, CAFECERT solicitará completarla o ajustarla con el fin de procesar la solicitud.
A55: 2. La información consignada en este formulario debe ser fidedigna con la información relacionada con el empaque del producto a certificar.
A56: 3. Si el empaque del café hace alusión a las siguientes regiones “Huila, Cauca, Nariño, Sierra Nevada, Santander ó Tolima” ( o alguno de los municpios contemplados en las Resoluciones que declaran dicha protección) deberá obtener la certificación Denominación de Origen Regional (DOR) por ser regiones protegidas ante la Superintendencia de Industria y Comercio (SIC). El no hacerlo acarrea sanciones de índole legal.
A57: 4. El café certificable bajo la DO CAFÉ DE COLOMBIA, es el café de la especie Coffee Arábica LAVADO cultivado en la zona cafetera colombiana definida en la resolución 4819 de 2005 y que genera las siguientes características: Suave, de taza limpia, con acidez y cuerpo medio/alto, aroma pronunciado y completo.
A58: 5.LOS CRITERIOS DE CERTIFICACIÓN Y TIPOS DE CAFÉ CERTIFICABLES se referencian en las Reglas del servicio de certificación y Esquema de certificación disponibles en la página web www.fundacioncafecert.org. Recuerde consultar en la página web las versiones vigentes de los documentos relacionados.
... A82: Empresa:

Sheet REQUEST FOR CERTIFICATION(EN)
A1: Código: OPRE-F-031, Versión: 36
A2: REQUEST FOR CERTIFICATION
A6: First edition: 2008/02/10 | F6: Update date: 2025/02/0
A7: FUNDACION CAFECERT appreciates your interest in starting the certification process; Please complete the following form completely and attach the information requested in section 7.
A9: Remember that we are willing to resolve your concerns on PBX: (57) (601) 3136600 Ext: 1345, 1479, 1421. Phone: (57) (601) 3257421
A10: By completing this form you authorize CAFECERT to use, store and dispose of the personal information provided in accordance with the Personal Data Processing Policy, which can be found on the website. www.fundacioncafecert.org.
A11: Date of completion: | D11: Year: | G11: Month: | I11: Day:
A12: 1. INFORMACIÓN DE LA COMPAÑÍA
A13: Name of the Company:
A14: Tax ID (NIF, CIF, Extrait KBIS, W-9, other) as applicable
A15: Company address:
A16: E-mail:
A17: City: | F17: Country:
A18: Telephone: | F18: Webpage:
A19: 2. MAIN CONTACT INFORMATION
A20: Full name:
A21: Position: | F21: E-mail:
A22: Telephone: | F22: Mobile number:
A23: 3. LEGAL REPRESENTASTIVE INFORMATION
A24: Full name:
A25: E-mail:
A26: 4. GENERAL INFORMATION
A27: Mark with an (✔) the type of activity(s) your type of company:
A30: 5. PLANTS WHERE COFFEE TO BE CERTIFIED IS PROCESSED
A31: Plant | B31: Name of plant | D31: Address | F31: City and Country | I31: Type of activity (Roaster, Solubilizer etc)
A32: 1
A33: 2
A34: 3
A35: 4
A36: 5
A37: 6. INFORMATION OF PRODUCTS TO BE CERTIFIED
A38: Type of certification: Mark with an ✔ | G38: Especifique el código del Certificado Vigente (Solo si es Ampliación)
A39: Type of product | B39: Brand | C39: Commercial line(*) (Varieties, Type of roasting) | E39: Content of the presentation (10g, 100 g, 250 g etc.) | F39: Type of presentation (Capsules, Pods, bags, etc) | G39: Country (ies) where is commercialized | H39: Plant (Indicate the number of plant from section 5) | I39: Owner of Brand | J39: Certification Scheme (DO/IGP/DOR)
A47: (*)Describe in commercial line: The information related to the packaging of the product to be certified. Example: Varieties, Type of roasting (high, medium or low) and/or intensities related to the product, commercial references such as Decaffeinated, Organic, Premium, Gourmet, Traditional, among others.
A48: 7. DOCUMENTS TO BE ATTACHED TO THIS REQUEST
A49: .Commercial registry, NIF, CIF, Extrait KBIS, W-9 , as applicable
A50: .Signed letter of the Commitment to this certification application form.
A51: .Photographs and/or the art of the final packaging, on the front, back and sides, showing the specifications and general information of the coffee to be certified.
A52: 8. EXPLANATORY NOTES
A53: 1. If the requested documentation is incomplete or the form presents any inconsistency, CAFECERT will request to complete or adjust it in order to process the request.
A54: 2. The information entered in this form must be reliable with the information related to the packaging of the product to be certified.
A55: 3. Coffee certifiable under the Protected Geographical Indication (PGI) is coffee of the Coffee Arabica LAVADO species, grown in the Colombian coffee-growing zone defined in the specifications of the Protected Geographical Indication of Colombia / Regulation (EC) No. 1050/ 2007 of the Commission of September 12, 2007 that generates the following characteristics: Smooth, clean cup, with medium/high acidity and body, pronounced and complete aroma.
A56: 4.THE CERTIFICATION CRITERIA AND TYPES OF CERTIFIABLE COFFEE are referenced in OPRE-D-024 Rules of the certification service and Certification Scheme available on the website www.fundacioncafecert.org
A57: 5.According to the Protected Geographical Indication (PGI) scheme Café de Colombia applies to customers who roast and produce Soluble/Extract coffee and/or market their coffee in the following countries: United Kingdom, Switzerland and countries of the European Union (Germany, Austria, Belgium, Bulgaria, Cyprus, Croatia, Denmark, Slovakia, Spain, Estonia, Finland, France, Greece, Hungary, Ireland, Italy, Latvia, Lithuania, Luxembourg, Malta , Netherlands, Poland, Portugal, Czech Republic, Romania, Sweden).
A58: 6. Denominations of Origin are recognized in the following countries: - Denomination of Origin (DO) scheme Café de Colombia applies to customers who roast and produce Soluble/Extract coffee and/or market their coffee member countries of the Andean Community of Nations (CAN), which comprises: Colombia, Ecuador, Peru, and Bolivia. - Regional Denomination of Origin (DOR) scheme Café de Colombia applies to customers who roast and produce Soluble/Extract coffee and/or market their coffee member countries of the Andean Community of Nations (CAN), which comprises: Colombia, Ecuador, Peru, and Bolivia. The regional denominations correspond to the following departments: Cauca, Huila, Nariño, Sierra Nevada, Tolima, and Santander (or any of the municipalities set forth in the Resolutions declaring such protection)
... A78: Company:

Sheet Tabla 1
A1: Tipo de producto | B1: Tipo de certificación (DO/IGP/DOR)
A2: Café tostado grano/molido | B2: DO | C2: 1 | D2: Café_tostado_grano_o_molido | E2: =+' SOLICITUD DE CERTIFICACION(ES)'!A40 -> 0 | F2: =+VLOOKUP(E2,$A$2:$A$10,1,FALSE) -> #N/A | G2: =+IF(F2=$A$2,$D$2,IF(F2=$A$3,$D$3,IF(F2=$A$4,$D$4,IF(F2=$A$5,$D$5,IF(F2=$A$6,$D$6,IF(F2=$A$7,$D$7,IF(F2=$A$8,$D$8,IF(F2=$A$9,$D$9,IF(F2=$A$10,$D$10,0))))))))) -> #N/A
A3: Café tostado grano | B3: IGP | C3: 2 | D3: Café_tostado_grano | E3: =+' SOLICITUD DE CERTIFICACION(ES)'!A41 -> 0 | F3: =+VLOOKUP(E3,$A$2:$A$10,1,FALSE) -> #N/A | G3: =+IF(F3=$A$2,$D$2,IF(F3=$A$3,$D$3,IF(F3=$A$4,$D$4,IF(F3=$A$5,$D$5,IF(F3=$A$6,$D$6,IF(F3=$A$7,$D$7,IF(F3=$A$8,$D$8,IF(F3=$A$9,$D$9,IF(F3=$A$10,$D$10,0))))))))) -> #N/A
A4: Café tostado molido | B4: DO+IGP | C4: 3 | D4: Café_tostado_molido | E4: =+' SOLICITUD DE CERTIFICACION(ES)'!A42 -> 0 | F4: =+VLOOKUP(E4,$A$2:$A$10,1,FALSE) -> #N/A | G4: =+IF(F4=$A$2,$D$2,IF(F4=$A$3,$D$3,IF(F4=$A$4,$D$4,IF(F4=$A$5,$D$5,IF(F4=$A$6,$D$6,IF(F4=$A$7,$D$7,IF(F4=$A$8,$D$8,IF(F4=$A$9,$D$9,IF(F4=$A$10,$D$10,0))))))))) -> #N/A
A5: Café verde | B5: DOR Cauca | C5: 4 | D5: Café_verde | E5: =+' SOLICITUD DE CERTIFICACION(ES)'!A43 -> 0 | F5: =+VLOOKUP(E5,$A$2:$A$10,1,FALSE) -> #N/A | G5: =+IF(F5=$A$2,$D$2,IF(F5=$A$3,$D$3,IF(F5=$A$4,$D$4,IF(F5=$A$5,$D$5,IF(F5=$A$6,$D$6,IF(F5=$A$7,$D$7,IF(F5=$A$8,$D$8,IF(F5=$A$9,$D$9,IF(F5=$A$10,$D$10,0))))))))) -> #N/A
A6: Café verde excelso | B6: DOR Huila | C6: 5 | D6: Café_verde_excelso | E6: =+' SOLICITUD DE CERTIFICACION(ES)'!A44 -> 0 | F6: =+VLOOKUP(E6,$A$2:$A$10,1,FALSE) -> #N/A | G6: =+IF(F6=$A$2,$D$2,IF(F6=$A$3,$D$3,IF(F6=$A$4,$D$4,IF(F6=$A$5,$D$5,IF(F6=$A$6,$D$6,IF(F6=$A$7,$D$7,IF(F6=$A$8,$D$8,IF(F6=$A$9,$D$9,IF(F6=$A$10,$D$10,0))))))))) -> #N/A
A7: Café verde consumo | B7: DOR Nariño | C7: 6 | D7: Café_verde_consumo | E7: =+' SOLICITUD DE CERTIFICACION(ES)'!A45 -> 0 | F7: =+VLOOKUP(E7,$A$2:$A$10,1,FALSE) -> #N/A | G7: =+IF(F7=$A$2,$D$2,IF(F7=$A$3,$D$3,IF(F7=$A$4,$D$4,IF(F7=$A$5,$D$5,IF(F7=$A$6,$D$6,IF(F7=$A$7,$D$7,IF(F7=$A$8,$D$8,IF(F7=$A$9,$D$9,IF(F7=$A$10,$D$10,0))))))))) -> #N/A
A8: Café verde pasilla | B8: DOR Santander | C8: 7 | D8: Café_verde_pasilla | E8: =+' SOLICITUD DE CERTIFICACION(ES)'!A46 -> 0 | F8: =+VLOOKUP(E8,$A$2:$A$10,1,FALSE) -> #N/A | G8: =+IF(F8=$A$2,$D$2,IF(F8=$A$3,$D$3,IF(F8=$A$4,$D$4,IF(F8=$A$5,$D$5,IF(F8=$A$6,$D$6,IF(F8=$A$7,$D$7,IF(F8=$A$8,$D$8,IF(F8=$A$9,$D$9,IF(F8=$A$10,$D$10,0))))))))) -> #N/A
A9: Café soluble | B9: DOR Tolima | C9: 8 | D9: Café_soluble | F9: =+VLOOKUP(E9,$A$2:$A$10,1,FALSE) -> #N/A | G9: =+IF(F9=$A$2,$D$2,IF(F9=$A$3,$D$3,IF(F9=$A$4,$D$4,IF(F9=$A$5,$D$5,IF(F9=$A$6,$D$6,IF(F9=$A$7,$D$7,IF(F9=$A$8,$D$8,IF(F9=$A$9,$D$9,IF(F9=$A$10,$D$10,0))))))))) -> #N/A
A10: Extracto de café | B10: DOR Sierra Nevada | C10: 9 | D10: Extracto_de_café | F10: =+VLOOKUP(E10,$A$2:$A$10,1,FALSE) -> #N/A | G10: =+IF(F10=$A$2,$D$2,IF(F10=$A$3,$D$3,IF(F10=$A$4,$D$4,IF(F10=$A$5,$D$5,IF(F10=$A$6,$D$6,IF(F10=$A$7,$D$7,IF(F10=$A$8,$D$8,IF(F10=$A$9,$D$9,IF(F10=$A$10,$D$10,0))))))))) -> #N/A
B11: DOR Cauca + IGP
B12: DOR Huila + IGP
B13: DOR Nariño + IGP
B14: DOR Santander + IGP
B15: DOR Tolima + IGP
B16: DOR Tolima + IGP
B17: DOR Sierra Nevada + IGP
A22: Roested Coffee (beans/ ground) | B22: DO | C22: 1 | D22: Tabla13 | E22: =+'REQUEST FOR CERTIFICATION(EN)'!A40 -> 0 | F22: =+VLOOKUP(E22,$A$22:$A$26,1,FALSE) -> #N/A | G22: =+IF(F22=$A$22,$D$22,IF(F22=$A$23,$D$23,IF(F22=$A$24,$D$24,IF(F22=$A$25,$D$25,IF(F22=$A$26,$D$26,0))))) -> #N/A
A23: Roasted coffee beans | B23: IGP | C23: 2 | D23: Tabla14 | E23: =+'REQUEST FOR CERTIFICATION(EN)'!A41 -> 0 | F23: =+VLOOKUP(E23,$A$22:$A$26,1,FALSE) -> #N/A | G23: =+IF(F23=$A$22,$D$22,IF(F23=$A$23,$D$23,IF(F23=$A$24,$D$24,IF(F23=$A$25,$D$25,IF(F23=$A$26,$D$26,0))))) -> #N/A
A24: Ground Roasted Coffee | B24: DO+IGP | C24: 3 | D24: Tabla15 | E24: =+'REQUEST FOR CERTIFICATION(EN)'!A42 -> 0 | F24: =+VLOOKUP(E24,$A$22:$A$26,1,FALSE) -> #N/A | G24: =+IF(F24=$A$22,$D$22,IF(F24=$A$23,$D$23,IF(F24=$A$24,$D$24,IF(F24=$A$25,$D$25,IF(F24=$A$26,$D$26,0))))) -> #N/A
A25: Soluble coffee | B25: DOR Cauca | C25: 4 | D25: Tabla16 | E25: =+'REQUEST FOR CERTIFICATION(EN)'!A43 -> 0 | F25: =+VLOOKUP(E25,$A$22:$A$26,1,FALSE) -> #N/A | G25: =+IF(F25=$A$22,$D$22,IF(F25=$A$23,$D$23,IF(F25=$A$24,$D$24,IF(F25=$A$25,$D$25,IF(F25=$A$26,$D$26,0))))) -> #N/A
A26: Coffee extract | B26: DOR Huila | C26: 5 | D26: Tabla17 | E26: =+'REQUEST FOR CERTIFICATION(EN)'!A44 -> 0 | F26: =+VLOOKUP(E26,$A$22:$A$26,1,FALSE) -> #N/A | G26: =+IF(F26=$A$22,$D$22,IF(F26=$A$23,$D$23,IF(F26=$A$24,$D$24,IF(F26=$A$25,$D$25,IF(F26=$A$26,$D$26,0))))) -> #N/A
B27: DOR Nariño
B28: DOR Santander
B29: DOR Tolima
B30: DOR Sierra Nevada
B31: DOR Cauca + IGP
B32: DOR Huila + IGP
B33: DOR Nariño + IGP
B34: DOR Santander + IGP
B35: DOR Tolima + IGP
B36: DOR Tolima + IGP
B37: DOR Sierra Nevada + IGP

Sheet Tablas
A1: Café_tostado_grano_o_molido | B1: Café_tostado_grano | C1: Café_tostado_molido | D1: Café_verde | E1: Café_verde_excelso | F1: Café_verde_consumo | G1: Café_verde_pasilla | H1: Café_soluble | I1: Extracto_de_café | J1: Roasted _Coffee_beans_or_ground | K1: Roasted_coffee_ beans | L1: Ground_Roasted_Coffee | M1: Soluble_coffee | N1: Coffee_extract
A2: DO | B2: DO | C2: DO | D2: DO | E2: DO | F2: DO | G2: DO | H2: DO | I2: DO | J2: IGP | K2: IGP | L2: IGP | M2: IGP | N2: IGP
A3: IGP | B3: IGP | C3: IGP | D3: IGP | E3: IGP | F3: DOR Cauca | G3: DOR Cauca | H3: IGP | I3: IGP | J3: DO | K3: DO | L3: DO | M3: DO | N3: DO
A4: DO+IGP | B4: DO+IGP | C4: DO+IGP | D4: DO+IGP | E4: DO+IGP | F4: DOR Huila | G4: DOR Huila | H4: DO+IGP | I4: DO+IGP | J4: DO+IGP | K4: DO+IGP | L4: DO+IGP | M4: DO+IGP | N4: DO+IGP
A5: DOR Cauca | B5: DOR Cauca | C5: DOR Cauca | D5: DOR Cauca | E5: DOR Cauca | F5: DOR Nariño | G5: DOR Nariño | J5: DOR Cauca | K5: DOR Cauca | L5: DOR Cauca
A6: DOR Huila | B6: DOR Huila | C6: DOR Huila | D6: DOR Huila | E6: DOR Huila | F6: DOR Santander | G6: DOR Santander | J6: DOR Huila | K6: DOR Huila | L6: DOR Huila
A7: DOR Nariño | B7: DOR Nariño | C7: DOR Nariño | D7: DOR Nariño | E7: DOR Nariño | F7: DOR Tolima | G7: DOR Tolima | J7: DOR Nariño | K7: DOR Nariño | L7: DOR Nariño
A8: DOR Santander | B8: DOR Santander | C8: DOR Santander | D8: DOR Santander | E8: DOR Santander | F8: DOR Sierra Nevada | G8: DOR Sierra Nevada | J8: DOR Santander | K8: DOR Santander | L8: DOR Santander
A9: DOR Tolima | B9: DOR Tolima | C9: DOR Tolima | D9: DOR Tolima | E9: DOR Tolima | J9: DOR Tolima | K9: DOR Tolima | L9: DOR Tolima
A10: DOR Sierra Nevada | B10: DOR Sierra Nevada | C10: DOR Sierra Nevada | D10: DOR Sierra Nevada | E10: DOR Sierra Nevada | J10: DOR Sierra Nevada | K10: DOR Sierra Nevada | L10: DOR Sierra Nevada
A11: DOR Cauca + IGP | B11: DOR Cauca + IGP | C11: DOR Cauca + IGP | D11: DOR Cauca + IGP | E11: DOR Cauca + IGP | J11: DOR Cauca + IGP | K11: DOR Cauca + IGP | L11: DOR Cauca + IGP
A12: DOR Huila + IGP | B12: DOR Huila + IGP | C12: DOR Huila + IGP | D12: DOR Huila + IGP | E12: DOR Huila + IGP | J12: DOR Huila + IGP | K12: DOR Huila + IGP | L12: DOR Huila + IGP
A13: DOR Nariño + IGP | B13: DOR Nariño + IGP | C13: DOR Nariño + IGP | D13: DOR Nariño + IGP | E13: DOR Nariño + IGP | J13: DOR Nariño + IGP | K13: DOR Nariño + IGP | L13: DOR Nariño + IGP
A14: DOR Santander + IGP | B14: DOR Santander + IGP | C14: DOR Santander + IGP | D14: DOR Santander + IGP | E14: DOR Santander + IGP | J14: DOR Santander + IGP | K14: DOR Santander + IGP | L14: DOR Santander + IGP
A15: DOR Tolima + IGP | B15: DOR Tolima + IGP | C15: DOR Tolima + IGP | D15: DOR Tolima + IGP | E15: DOR Tolima + IGP | J15: DOR Tolima + IGP | K15: DOR Tolima + IGP | L15: DOR Tolima + IGP
A16: DOR Sierra Nevada + IGP | B16: DOR Sierra Nevada + IGP | C16: DOR Sierra Nevada + IGP | D16: DOR Sierra Nevada + IGP | E16: DOR Sierra Nevada + IGP | J16: DOR Sierra Nevada + IGP | K16: DOR Sierra Nevada + IGP | L16: DOR Sierra Nevada + IGP
